BEGIN:VCALENDAR
VERSION:2.0
PRODID:-//Miejski Ośrodek Sportu i Rekreacji - Zakopane - ECPv6.15.19//NONSGML v1.0//EN
CALSCALE:GREGORIAN
METHOD:PUBLISH
X-ORIGINAL-URL:https://www.mosir.zakopane.eu
X-WR-CALDESC:Wydarzenia dla Miejski Ośrodek Sportu i Rekreacji - Zakopane
REFRESH-INTERVAL;VALUE=DURATION:PT1H
X-Robots-Tag:noindex
X-PUBLISHED-TTL:PT1H
BEGIN:VTIMEZONE
TZID:Europe/Warsaw
BEGIN:DAYLIGHT
TZOFFSETFROM:+0100
TZOFFSETTO:+0200
TZNAME:CEST
DTSTART:20250330T010000
END:DAYLIGHT
BEGIN:STANDARD
TZOFFSETFROM:+0200
TZOFFSETTO:+0100
TZNAME:CET
DTSTART:20251026T010000
END:STANDARD
BEGIN:DAYLIGHT
TZOFFSETFROM:+0100
TZOFFSETTO:+0200
TZNAME:CEST
DTSTART:20260329T010000
END:DAYLIGHT
BEGIN:STANDARD
TZOFFSETFROM:+0200
TZOFFSETTO:+0100
TZNAME:CET
DTSTART:20261025T010000
END:STANDARD
BEGIN:DAYLIGHT
TZOFFSETFROM:+0100
TZOFFSETTO:+0200
TZNAME:CEST
DTSTART:20270328T010000
END:DAYLIGHT
BEGIN:STANDARD
TZOFFSETFROM:+0200
TZOFFSETTO:+0100
TZNAME:CET
DTSTART:20271031T010000
END:STANDARD
END:VTIMEZONE
BEGIN:VEVENT
DTSTART;TZID=Europe/Warsaw:20260201T080000
DTEND;TZID=Europe/Warsaw:20260201T140000
DTSTAMP:20260423T184322
CREATED:20251222T130009Z
LAST-MODIFIED:20260129T120904Z
UID:726-1769932800-1769954400@www.mosir.zakopane.eu
SUMMARY:Puchar Zakopanego Amatorów w Narciarstwie Alpejskim - Kasprowy Wierch
DESCRIPTION:  \nPuchar Zakopanego w Narciarstwie Alpejskim ’26 \n\nJuż w najbliższą niedzielę tj. 01.02.2026 zawody przenoszą się na PKL Kasprowy WIERCH .\nGłównym Partnerem Pucharu Zakopanego jest SALOMON\n\n\nPLAN:\n1. od godz. 7:00 -7:45 biuro zawodów – zapisy\, wydanie nr. startowych\n2. od godz. 7:30 – 8:00 – Zakup karnetów (we własnym zakresie w biurze obsługi klienta PKL)\n3. 8:00 – 8:30 – wyjazd kolejką – odjazd co 10 min.\n4. 9:00 – 9:30 oglądanie trasy I przejazdu GS\n5. 10:00 – START I przejazd GS\n6. Po zakończeniu I przejazdu zmiana stawienia trasy GS\n7. Przerwa między I i II przejazdem 40 min. \, w tym oglądanie trasy II przejazdu ok 20 min.\n8. godz. 13.30 Ceremonia Zakończenia i Dekoracja – Dolna Stacja kolei PKL Kasprowy Wierch.\n\n\nZwrot nr. startowych po zakończeniu zawodów – namiot obok Yurta Bar – dolna stacja kolei PKL Kasprowy Wierch w Kuźnicach.\n\n\nPAMIĄTKOWY MEDAL dla KAŻDEGO ZAWODNIKA\n(po oddaniu nr. startowego)
URL:https://www.mosir.zakopane.eu/wydarzenie/puchar-zakopanego-amatorow-w-narciarstwie-alpejskim-kasprowy-wierch/
LOCATION:Kasprowy Wierch\, Kasprowy Wierch\, Zakopane\, 34-500
CATEGORIES:Wydarzenia MOSIR
ATTACH;FMTTYPE=image/jpeg:https://www.mosir.zakopane.eu/wp-content/uploads/2026/01/xx-puchar_2026_plakat-4.jpg
END:VEVENT
END:VCALENDAR