BEGIN:VCALENDAR
VERSION:2.0
PRODID:-//Miejski Ośrodek Sportu i Rekreacji - Zakopane - ECPv6.15.19//NONSGML v1.0//EN
CALSCALE:GREGORIAN
METHOD:PUBLISH
X-ORIGINAL-URL:https://www.mosir.zakopane.eu
X-WR-CALDESC:Wydarzenia dla Miejski Ośrodek Sportu i Rekreacji - Zakopane
REFRESH-INTERVAL;VALUE=DURATION:PT1H
X-Robots-Tag:noindex
X-PUBLISHED-TTL:PT1H
BEGIN:VTIMEZONE
TZID:Europe/Warsaw
BEGIN:DAYLIGHT
TZOFFSETFROM:+0100
TZOFFSETTO:+0200
TZNAME:CEST
DTSTART:20250330T010000
END:DAYLIGHT
BEGIN:STANDARD
TZOFFSETFROM:+0200
TZOFFSETTO:+0100
TZNAME:CET
DTSTART:20251026T010000
END:STANDARD
BEGIN:DAYLIGHT
TZOFFSETFROM:+0100
TZOFFSETTO:+0200
TZNAME:CEST
DTSTART:20260329T010000
END:DAYLIGHT
BEGIN:STANDARD
TZOFFSETFROM:+0200
TZOFFSETTO:+0100
TZNAME:CET
DTSTART:20261025T010000
END:STANDARD
BEGIN:DAYLIGHT
TZOFFSETFROM:+0100
TZOFFSETTO:+0200
TZNAME:CEST
DTSTART:20270328T010000
END:DAYLIGHT
BEGIN:STANDARD
TZOFFSETFROM:+0200
TZOFFSETTO:+0100
TZNAME:CET
DTSTART:20271031T010000
END:STANDARD
END:VTIMEZONE
BEGIN:VEVENT
DTSTART;TZID=Europe/Warsaw:20260711T080000
DTEND;TZID=Europe/Warsaw:20260711T140000
DTSTAMP:20260423T201432
CREATED:20260204T131018Z
LAST-MODIFIED:20260204T133432Z
UID:1252-1783756800-1783778400@www.mosir.zakopane.eu
SUMMARY:XII OTWARTE MISTRZOSTWA ZAKOPANEGO W BIEGU POD GÓRĘ - PUCHAR POLSKI W SKYRUNNINGU 2026
DESCRIPTION:Zapraszamy Państwa już dzisiaj do zapisów \, które zostaną uruchomione w czerwcu na organizowane od 12 lat  tym razem już XII OTWARTE MISTRZOSTWA ZAKOPANEGO W BIEGU POD GÓRĘ –  PUCHAR POLSKI W SKYRUNNINGU 2026.  Po przerwie wracamy do Pucharu Polski Skyrunning (SNS – Skyrunning Nationa Series) jako Vertical. Zawody składają się z biegu na 4 stoki w ciągu jednego dnia. Ilość miejsc ograniczona do 100 osób. \nWPISOWE: \n– za cztery biegi łącznie – 140 zł\, \n– z Kartą Zakopiańczyka ( zapisy wraz z opłatą  tylko przez panel zgłoszeniowy) opłata startowa 80\,00 zł\, \n– w biurze zawodów opłata startowa 160\,00 zł   \nNagrody – informacja zostanie podana w regulaminie. \nZakończenie odbędzie się w Hali Sportowej MOSiR przy ul. Chramcówki 8 Zakopane \n 
URL:https://www.mosir.zakopane.eu/wydarzenie/xii-otwarte-mistrzostwa-zakopanego-w-biegu-pod-gore-puchar-polski-w-skyrunningu-2026/
LOCATION:Harenda\, Harenda 21a\, Zakopane\, 34-500
ATTACH;FMTTYPE=image/jpeg:https://www.mosir.zakopane.eu/wp-content/uploads/2026/02/EDYCJA-1-3-scaled.jpg
END:VEVENT
END:VCALENDAR