BEGIN:VCALENDAR
VERSION:2.0
PRODID:-//Miejski Ośrodek Sportu i Rekreacji - Zakopane - ECPv6.15.19//NONSGML v1.0//EN
CALSCALE:GREGORIAN
METHOD:PUBLISH
X-WR-CALNAME:Miejski Ośrodek Sportu i Rekreacji - Zakopane
X-ORIGINAL-URL:https://www.mosir.zakopane.eu
X-WR-CALDESC:Wydarzenia dla Miejski Ośrodek Sportu i Rekreacji - Zakopane
REFRESH-INTERVAL;VALUE=DURATION:PT1H
X-Robots-Tag:noindex
X-PUBLISHED-TTL:PT1H
BEGIN:VTIMEZONE
TZID:Europe/Warsaw
BEGIN:DAYLIGHT
TZOFFSETFROM:+0100
TZOFFSETTO:+0200
TZNAME:CEST
DTSTART:20250330T010000
END:DAYLIGHT
BEGIN:STANDARD
TZOFFSETFROM:+0200
TZOFFSETTO:+0100
TZNAME:CET
DTSTART:20251026T010000
END:STANDARD
BEGIN:DAYLIGHT
TZOFFSETFROM:+0100
TZOFFSETTO:+0200
TZNAME:CEST
DTSTART:20260329T010000
END:DAYLIGHT
BEGIN:STANDARD
TZOFFSETFROM:+0200
TZOFFSETTO:+0100
TZNAME:CET
DTSTART:20261025T010000
END:STANDARD
BEGIN:DAYLIGHT
TZOFFSETFROM:+0100
TZOFFSETTO:+0200
TZNAME:CEST
DTSTART:20270328T010000
END:DAYLIGHT
BEGIN:STANDARD
TZOFFSETFROM:+0200
TZOFFSETTO:+0100
TZNAME:CET
DTSTART:20271031T010000
END:STANDARD
END:VTIMEZONE
BEGIN:VEVENT
DTSTART;VALUE=DATE:20260529
DTEND;VALUE=DATE:20260530
DTSTAMP:20260423T115126
CREATED:20260222T102711Z
LAST-MODIFIED:20260422T082219Z
UID:1488-1780012800-1780099199@www.mosir.zakopane.eu
SUMMARY:Plusssz Night Run Zakopane
DESCRIPTION:Bieg Nocny Zakopane 2026. \n\nDo wyboru dwa dystanse biegu: 10 km i 5 km oraz konkurencje biegowe dla najmłodszych. \nCentrum imprezy zlokalizowane będzie na Stadionie Miejskim ORKANA\, a trasy obydwu dystansów poprowadzą uczestników poprzez najpiękniejsze zakątki Zakopanego. \nKonkurencje dla dzieci odbędą się na bieżni lekkoatletycznej Stadionu Miejskiego. \n\n\nZAPISY: www.zakopanenightrun.com
URL:https://www.mosir.zakopane.eu/wydarzenie/zakopanenightrun/
LOCATION:Miejski Stadion Orkana\, Orkana 4\, Zakopane\, Małopolskie\, 34-500\, Poland
ATTACH;FMTTYPE=image/jpeg:https://www.mosir.zakopane.eu/wp-content/uploads/2026/04/AKTYWNIE_Night-Run-Zakopane.jpeg
END:VEVENT
BEGIN:VEVENT
DTSTART;TZID=Europe/Warsaw:20260610T100000
DTEND;TZID=Europe/Warsaw:20260610T190000
DTSTAMP:20260423T115126
CREATED:20260408T072853Z
LAST-MODIFIED:20260408T124625Z
UID:1715-1781085600-1781118000@www.mosir.zakopane.eu
SUMMARY:Zakopiański Test Coopera
DESCRIPTION:MOSIR Zakopane serdecznie zaprasza na kolejną edycję Zakopiańskiego Testu Coopera\, który w tym roku jest również wydarzeniem organizowanym w ramach obchodów Dni Zakopanego 2026. \nNa czym polega Test Coopera? To 12-minutowy nieprzerwany bieg/marsz podczas którego trzeba pokonać jak najdłuższy dystans sprawdzając przy tym swoją ogólną kondycję fizyczną. Test ten został opracowany w 1968 roku przez Kennetha Coopera dla armii USA a jego wynik interpretuje się według wieku i płci. Zachęcamy do udziału każdego kto chce się zmierzyć z tym wyzwaniem – młodych i starszych\, amatorów jak i profesjonalnych biegaczy\, sportowców. \nI TURA 10:00 startują uczniowie szkół którzy zgłaszają się na zawody przez panel SRS do dnia 8.06.2026 do godziny 22:00 – w tej TURZE dopuszczamy również osoby indywidualne które nie mają możliwości przyjścia na II TURĘ \nII TURA 17:00 – 19:00 osoby indywidualne które zgłoszenia przesyłają na adres mailowy a.wojtecka@mosir.zakopane.eu lub k.chycmagdzin@mosir.zakopane.eu do dnia 8.06.2026 do godziny 22:00 (w zgłoszeniu prosimy podać imię\, nazwisko\, rok urodzenia\, miejscowość oraz klub i szkołę) zapisy dla osób indywidualnych będą prowadzone również na miejscu w dniu wydarzenia. \nUdział w teście jest bezpłatny a każdy uczestnik po biegu dostanie certyfikat ze swoim wynikiem. \nWidzimy się 10.06.2026 na stadionie miejskim „Orkana”\, czekamy na Was!
URL:https://www.mosir.zakopane.eu/wydarzenie/zakopianski-test-coopera/
LOCATION:Miejski Stadion Orkana\, Orkana 4\, Zakopane\, Małopolskie\, 34-500\, Poland
ATTACH;FMTTYPE=image/jpeg:https://www.mosir.zakopane.eu/wp-content/uploads/2026/04/WagarowiczA-4-scaled.jpg
END:VEVENT
BEGIN:VEVENT
DTSTART;TZID=Europe/Warsaw:20260612T110000
DTEND;TZID=Europe/Warsaw:20260612T170000
DTSTAMP:20260423T115126
CREATED:20260410T085851Z
LAST-MODIFIED:20260410T085851Z
UID:1745-1781262000-1781283600@www.mosir.zakopane.eu
SUMMARY:ROWERY MTB - zawody dla dzieci i dorosłych
DESCRIPTION:
URL:https://www.mosir.zakopane.eu/wydarzenie/rowery-mtb-zawody-dla-dzieci-i-doroslych/
LOCATION:Bachledzki Wierch
ATTACH;FMTTYPE=image/jpeg:https://www.mosir.zakopane.eu/wp-content/uploads/2026/04/ROWERY-MTB-scaled.jpg
END:VEVENT
BEGIN:VEVENT
DTSTART;TZID=Europe/Warsaw:20260711T080000
DTEND;TZID=Europe/Warsaw:20260711T140000
DTSTAMP:20260423T115126
CREATED:20260204T131018Z
LAST-MODIFIED:20260204T133432Z
UID:1252-1783756800-1783778400@www.mosir.zakopane.eu
SUMMARY:XII OTWARTE MISTRZOSTWA ZAKOPANEGO W BIEGU POD GÓRĘ - PUCHAR POLSKI W SKYRUNNINGU 2026
DESCRIPTION:Zapraszamy Państwa już dzisiaj do zapisów \, które zostaną uruchomione w czerwcu na organizowane od 12 lat  tym razem już XII OTWARTE MISTRZOSTWA ZAKOPANEGO W BIEGU POD GÓRĘ –  PUCHAR POLSKI W SKYRUNNINGU 2026.  Po przerwie wracamy do Pucharu Polski Skyrunning (SNS – Skyrunning Nationa Series) jako Vertical. Zawody składają się z biegu na 4 stoki w ciągu jednego dnia. Ilość miejsc ograniczona do 100 osób. \nWPISOWE: \n– za cztery biegi łącznie – 140 zł\, \n– z Kartą Zakopiańczyka ( zapisy wraz z opłatą  tylko przez panel zgłoszeniowy) opłata startowa 80\,00 zł\, \n– w biurze zawodów opłata startowa 160\,00 zł   \nNagrody – informacja zostanie podana w regulaminie. \nZakończenie odbędzie się w Hali Sportowej MOSiR przy ul. Chramcówki 8 Zakopane \n 
URL:https://www.mosir.zakopane.eu/wydarzenie/xii-otwarte-mistrzostwa-zakopanego-w-biegu-pod-gore-puchar-polski-w-skyrunningu-2026/
LOCATION:Harenda\, Harenda 21a\, Zakopane\, 34-500
ATTACH;FMTTYPE=image/jpeg:https://www.mosir.zakopane.eu/wp-content/uploads/2026/02/EDYCJA-1-3-scaled.jpg
END:VEVENT
BEGIN:VEVENT
DTSTART;TZID=Europe/Warsaw:20260729T080000
DTEND;TZID=Europe/Warsaw:20260801T170000
DTSTAMP:20260423T115126
CREATED:20260121T203211Z
LAST-MODIFIED:20260418T044603Z
UID:959-1785312000-1785603600@www.mosir.zakopane.eu
SUMMARY:TATRY CUP
DESCRIPTION:Znany turniej piłkarski dla dzieci i młodzieży\, który każdego roku\, w pierwszym tygodniu wakacji odbywa się w Zakopanem. Jedenasta edycja turnieju odbędzie się w dn. 28 czerwca – 1 lipca 2026 roku m.in na Miejskim Stadionie Sportowym Orkana w Zakopanem. \nSerdecznie zapraszamy w imieniu organizatorów na powyższe wydarzenie.
URL:https://www.mosir.zakopane.eu/wydarzenie/almar/
LOCATION:Miejski Stadion Orkana\, Orkana 4\, Zakopane\, Małopolskie\, 34-500\, Poland
ATTACH;FMTTYPE=image/jpeg:https://www.mosir.zakopane.eu/wp-content/uploads/2026/01/tatry-cup-2026.jpg
END:VEVENT
BEGIN:VEVENT
DTSTART;TZID=Europe/Warsaw:20260830T080000
DTEND;TZID=Europe/Warsaw:20260830T170000
DTSTAMP:20260423T115126
CREATED:20260309T103723Z
LAST-MODIFIED:20260309T103723Z
UID:1626-1788076800-1788109200@www.mosir.zakopane.eu
SUMMARY:11 Bieg po Oddech
DESCRIPTION:Cykliczne wydarzenie organizowane przez Polskie Towarzystwo Walki z  Mukowiscydozą  w partnerstwie z Gminą Miasto Zakopane oraz Miejskim Ośrodkiem Sportu i Rekreacji.
URL:https://www.mosir.zakopane.eu/wydarzenie/11-bieg-po-oddech/
LOCATION:Park Miejski im. Marszałka Józefa Piłsudskiego\, Grunwaldzka\, Zakopane\, Małopolska\, 34-500\, Poland
END:VEVENT
BEGIN:VEVENT
DTSTART;TZID=Europe/Warsaw:20260926T080000
DTEND;TZID=Europe/Warsaw:20260927T170000
DTSTAMP:20260423T115126
CREATED:20260226T162654Z
LAST-MODIFIED:20260226T162921Z
UID:1546-1790409600-1790528400@www.mosir.zakopane.eu
SUMMARY:Turniej Śpiącego Rycerza
DESCRIPTION:Turniej piłki nożnej dla dzieci urodzonych w 2016 roku i młodsi.
URL:https://www.mosir.zakopane.eu/wydarzenie/turniej-spiacego-rycerza/
LOCATION:Miejski Stadion Orkana\, Orkana 4\, Zakopane\, Małopolskie\, 34-500\, Poland
END:VEVENT
BEGIN:VEVENT
DTSTART;VALUE=DATE:20261107
DTEND;VALUE=DATE:20261108
DTSTAMP:20260423T115126
CREATED:20260121T202523Z
LAST-MODIFIED:20260411T172425Z
UID:953-1794009600-1794095999@www.mosir.zakopane.eu
SUMMARY:Turniej Niepodległościowy
DESCRIPTION:III edycja turnieju bokserskiego organizowanego przez Tatrzańską Akademię Boksu. \nProjekt zrealizowano przy wsparciu Gminy Miasto Zakopane.
URL:https://www.mosir.zakopane.eu/wydarzenie/turniej-niepodleglosciowy/
LOCATION:Hala Sportowa MOSIR\, Chramcówki 8\, Zakopane\, Małopolskie\, 34-500\, Poland
ATTACH;FMTTYPE=image/jpeg:https://www.mosir.zakopane.eu/wp-content/uploads/2025/12/Grand-Prix-22Turniej-Niepodleglosciowy22-Malopolski-w-Boksie.jpg
END:VEVENT
END:VCALENDAR