BEGIN:VCALENDAR
VERSION:2.0
PRODID:-//Miejski Ośrodek Sportu i Rekreacji - Zakopane - ECPv6.15.19//NONSGML v1.0//EN
CALSCALE:GREGORIAN
METHOD:PUBLISH
X-WR-CALNAME:Miejski Ośrodek Sportu i Rekreacji - Zakopane
X-ORIGINAL-URL:https://www.mosir.zakopane.eu
X-WR-CALDESC:Wydarzenia dla Miejski Ośrodek Sportu i Rekreacji - Zakopane
REFRESH-INTERVAL;VALUE=DURATION:PT1H
X-Robots-Tag:noindex
X-PUBLISHED-TTL:PT1H
BEGIN:VTIMEZONE
TZID:Europe/Warsaw
BEGIN:DAYLIGHT
TZOFFSETFROM:+0100
TZOFFSETTO:+0200
TZNAME:CEST
DTSTART:20250330T010000
END:DAYLIGHT
BEGIN:STANDARD
TZOFFSETFROM:+0200
TZOFFSETTO:+0100
TZNAME:CET
DTSTART:20251026T010000
END:STANDARD
BEGIN:DAYLIGHT
TZOFFSETFROM:+0100
TZOFFSETTO:+0200
TZNAME:CEST
DTSTART:20260329T010000
END:DAYLIGHT
BEGIN:STANDARD
TZOFFSETFROM:+0200
TZOFFSETTO:+0100
TZNAME:CET
DTSTART:20261025T010000
END:STANDARD
BEGIN:DAYLIGHT
TZOFFSETFROM:+0100
TZOFFSETTO:+0200
TZNAME:CEST
DTSTART:20270328T010000
END:DAYLIGHT
BEGIN:STANDARD
TZOFFSETFROM:+0200
TZOFFSETTO:+0100
TZNAME:CET
DTSTART:20271031T010000
END:STANDARD
END:VTIMEZONE
BEGIN:VEVENT
DTSTART;VALUE=DATE:20260109
DTEND;VALUE=DATE:20260111
DTSTAMP:20260423T184414
CREATED:20251222T144321Z
LAST-MODIFIED:20251222T144943Z
UID:770-1767916800-1768089599@www.mosir.zakopane.eu
SUMMARY:Akademia Lotnika
DESCRIPTION:
URL:https://www.mosir.zakopane.eu/wydarzenie/akademia-lotnika/
LOCATION:Plac Niepodległości\, pl. Niepodległości\, Zakopane\, 34-500
CATEGORIES:Wydarzenia MOSIR
END:VEVENT
BEGIN:VEVENT
DTSTART;VALUE=DATE:20260110
DTEND;VALUE=DATE:20260112
DTSTAMP:20260423T184414
CREATED:20251222T144509Z
LAST-MODIFIED:20251222T144943Z
UID:773-1768003200-1768175999@www.mosir.zakopane.eu
SUMMARY:Puchar Świata w Skokach Narciarskich
DESCRIPTION:opis wydarzenia
URL:https://www.mosir.zakopane.eu/wydarzenie/puchar-swiata-w-skokach-narciarskich/
LOCATION:Wielka Krokiew Zakopane\, ul. Bronisława Czecha 1\, Zakopane\, 34-500
CATEGORIES:Wydarzenia MOSIR
END:VEVENT
BEGIN:VEVENT
DTSTART;TZID=Europe/Warsaw:20260110T080000
DTEND;TZID=Europe/Warsaw:20260110T170000
DTSTAMP:20260423T184414
CREATED:20251222T123106Z
LAST-MODIFIED:20251222T144943Z
UID:723-1768032000-1768064400@www.mosir.zakopane.eu
SUMMARY:Puchar Zakopanego Amatorów w Narciarstwie Alpejskim - Harenda
DESCRIPTION:opis wydarzenia
URL:https://www.mosir.zakopane.eu/wydarzenie/puchar-zakopanego-amatorow-w-narciarstwie-alpejskim-harenda/
LOCATION:Harenda\, Harenda 21a\, Zakopane\, 34-500
CATEGORIES:Puchar Zakopanego Amatorów w Narciarstwie Alpejskim,Wydarzenia MOSIR
END:VEVENT
BEGIN:VEVENT
DTSTART;TZID=Europe/Warsaw:20260111T080000
DTEND;TZID=Europe/Warsaw:20260111T170000
DTSTAMP:20260423T184414
CREATED:20251222T144545Z
LAST-MODIFIED:20251222T144943Z
UID:776-1768118400-1768150800@www.mosir.zakopane.eu
SUMMARY:12H Slalom Maraton - 12 Edycja
DESCRIPTION:opis wydarzenia
URL:https://www.mosir.zakopane.eu/wydarzenie/12h-slalom-maraton-12-edycja/
LOCATION:Polana Szymoszkowa\, Polana Szymoszkowa 2\, Zakopane\, 34-500
CATEGORIES:Wydarzenia MOSIR
END:VEVENT
BEGIN:VEVENT
DTSTART;TZID=Europe/Warsaw:20260117T110000
DTEND;TZID=Europe/Warsaw:20260117T140000
DTSTAMP:20260423T184414
CREATED:20260113T143159Z
LAST-MODIFIED:20260113T143252Z
UID:911-1768647600-1768658400@www.mosir.zakopane.eu
SUMMARY:Zakopiański Dzień Śniegu
DESCRIPTION:Organizatorzy przewidzieli szereg atrakcji dla uczestników: \n\nZabawy i aktywności: Górka śnieżna\, zumba\, malowanie twarzy\, kolorowanki\, okulary 3D\, koło fortuny\, gry edukacyjne oraz pokazy lawinowe.\nSpecjalne strefy: Strefa animacyjno-edukacyjna oraz strefa gastronomiczna.\nPoczęstunek: Gorąca czekolada i strefa WARS.\nAtrakcja specjalna: WAWEL TRUCK.\n\nDodatkowe punkty programu: \n\nZwiedzanie: Możliwość zwiedzania stacji meteorologicznej IMGW-PIB.\nLodowisko: Wstęp dla dzieci w cenie 9 zł w godzinach trwania wydarzenia (11:00-14:00)
URL:https://www.mosir.zakopane.eu/wydarzenie/zakopianski-dzien-sniegu-2/
LOCATION:Górna Rówień Krupowa Zakopane\, Górna Rówień Krupowa\, Zakopane\, Tatrzański\, 34-500\, Poland
CATEGORIES:Wydarzenia MOSIR
ATTACH;FMTTYPE=image/jpeg:https://www.mosir.zakopane.eu/wp-content/uploads/2026/01/PLAKAT-WSD_2025_plakat-1000x2100mm.jpg
END:VEVENT
END:VCALENDAR