BEGIN:VCALENDAR
VERSION:2.0
PRODID:-//Miejski Ośrodek Sportu i Rekreacji - Zakopane - ECPv6.15.19//NONSGML v1.0//EN
CALSCALE:GREGORIAN
METHOD:PUBLISH
X-WR-CALNAME:Miejski Ośrodek Sportu i Rekreacji - Zakopane
X-ORIGINAL-URL:https://www.mosir.zakopane.eu
X-WR-CALDESC:Wydarzenia dla Miejski Ośrodek Sportu i Rekreacji - Zakopane
REFRESH-INTERVAL;VALUE=DURATION:PT1H
X-Robots-Tag:noindex
X-PUBLISHED-TTL:PT1H
BEGIN:VTIMEZONE
TZID:Europe/Warsaw
BEGIN:DAYLIGHT
TZOFFSETFROM:+0100
TZOFFSETTO:+0200
TZNAME:CEST
DTSTART:20250330T010000
END:DAYLIGHT
BEGIN:STANDARD
TZOFFSETFROM:+0200
TZOFFSETTO:+0100
TZNAME:CET
DTSTART:20251026T010000
END:STANDARD
BEGIN:DAYLIGHT
TZOFFSETFROM:+0100
TZOFFSETTO:+0200
TZNAME:CEST
DTSTART:20260329T010000
END:DAYLIGHT
BEGIN:STANDARD
TZOFFSETFROM:+0200
TZOFFSETTO:+0100
TZNAME:CET
DTSTART:20261025T010000
END:STANDARD
BEGIN:DAYLIGHT
TZOFFSETFROM:+0100
TZOFFSETTO:+0200
TZNAME:CEST
DTSTART:20270328T010000
END:DAYLIGHT
BEGIN:STANDARD
TZOFFSETFROM:+0200
TZOFFSETTO:+0100
TZNAME:CET
DTSTART:20271031T010000
END:STANDARD
END:VTIMEZONE
BEGIN:VEVENT
DTSTART;TZID=Europe/Warsaw:20260301T120000
DTEND;TZID=Europe/Warsaw:20260301T150000
DTSTAMP:20260423T155634
CREATED:20260122T115359Z
LAST-MODIFIED:20260130T120950Z
UID:978-1772366400-1772377200@www.mosir.zakopane.eu
SUMMARY:Tropem Wilczym - Bieg Pamięci Żołnierzy Wyklętych
DESCRIPTION:RUSZYŁY ZAPISY !!! \nhttps://www.sportstiming.pl/zapisy-tropem-wilczym-bieg-pamieci-zolnierzy-wykletych/ ! \nDnia 1 marca 2026 roku o godz 12:00 na Górnej Równi Krupowej rozpocznie się Bieg Żołnierzy Wyklętych „Tropem Wilczym”.\nBieg objęty jest PATRONATEM HONOROWYM Burmistrza Miasta Zakopane.\nOrganizator wyznaczył 3 dystanse: \nBieg na dystansie rodzinnym – około 1963 m dwie pętle\nBieg na dystansie – około 2935 m trzy pętle\nBieg na dystansie – około 4879 m pięć pętli\nWprowadzony został limitu zawodników 100 osób oraz nie wprowadza się limitu wieku.\nZgłoszeń można dokonywać do dnia 26.02.2026 r. do godz. 23:59. drogą elektroniczną za pośrednictwem strony internetowej https://www.sportstiming.pl/\nZa zgłoszonego uważa się zawodnika\, który zapisał się do biegu i wniósł opłatę startową.\nZapisy w biurze zawodów będą prowadzone będą tylko\, jeżeli nie zostanie wykorzystany limit 100 osób przy zapisach elektronicznych. Zapisy przez panel elektroniczny zatwierdzone są tylko po uiszczeniu opłaty startowej.\nOpłata za pakiet startowy w biegu wynosi:\n– 70\,00 zł urodzeni 2010 i starsi\,\n– 47\,00 zł urodzeni 2011 i młodsi\nKartą Zakopiańczyka\n– 40\,00 zł urodzeni 2010 i starsi\,\n– 26\,00 zł urodzeni 2011 i młodsi\nPowyższe opłaty tylko przez panel on-line https://www.sportstiming.pl/ do dnia 26.02.2026 r. godz. 23:59 (weryfikacja karty w biurze zawodów\, brak karty oznacza dopłatę do ceny obowiązującej w biurze zawodów)\nOpłaty za pakiet w biurze zawodów:\n– 80\,00 zł urodzeni 2010 i starsi\,\n– 60\,00 zł urodzeni 2011 i młodsi\nBiuro zawodów mieścić się będzie obok instalacji „ZAKOPANE” na Górnej Równi Krupowej i czynne będzie w dniu zawodów w godzinach 10:30 – 11:30\nKontakt do organizatora tel. 511453505\, e-mail: a.wojtecka@mosir.zakopane.eu \nZapraszamy do udziału w biegu \nTropem Wilczym – Bieg Pamięci Żołnierzy Wyklętych\nZakopane 01 marca 2026 roku \nREGULAMIN \nPatronat honorowy – Łukasz Filipowicz – Burmistrz Miasta Zakopane Organizator Lokalny- Miejski Ośrodek Sportu i Rekreacji w Zakopanem\nOrganizator ogólnopolski – Fundacja Wolność i Demokracja\nPatronat medialny – Tygodnik Podhalański \nI. CEL ZAWODÓW:\n1. Oddanie hołdu żołnierzom polskiego podziemia antykomunistycznego i antysowieckiego działającego w latach 1944 – 1963 w obrębie przedwojennych granic RP oraz popularyzacja wiedzy na ten temat. 2. Podtrzymanie wśród Polaków wiedzy historycznej na temat Żołnierzy Wyklętych.\n3. Upowszechnianie biegania jako najprostszej formy ruchu.\n4. Promocja aktywności fizycznej i zdrowego stylu życia.\n5. Promocja miasta Zakopane. \nII. TERMIN\, MIEJSCE I GODZINY STARTU: \n1. Start o godzinie 12:00\, 01 marca 2026 r. w Zakopanem na Górnej Równi Krupowej.\nIII . TRASA\, DYSTANS: Organizator wyznaczył 3 dystanse:\nBieg na dystansie rodzinnym – około 1963 m dwie pętle\nBieg na dystansie – około 2935 m trzy pętle\nBieg na dystansie – około 4879 m pięć pętli \nOrganizator wprowadza limitu zawodników 100 osób oraz nie wprowadza limitu wieku.\nIV. ZGŁOSZENIA \n1. Zgłoszeń można dokonywać do dnia 26.02.2026 r. do godz. 23:59. drogą elektroniczną za pośrednictwem strony internetowej https://www.sportstiming.pl/\nZa zgłoszonego uważa się zawodnika\, który zapisał się do biegu i wniósł opłatę startową. \n2. Zapisy w biurze zawodów będą prowadzone będą tylko\, jeżeli nie zostanie wykorzystany limit 100 osób przy zapisach elektronicznych. Zapisy przez panel elektroniczny zatwierdzone są tylko po uiszczeniu opłaty startowej. \n3. Pakiety startowe odbierać można w dniu 01 marca w godzinach pracy biura zawodów\, zgodnie z rozdziałem VII niniejszego regulaminu. \nV. UCZESTNICTWO \n1. Wszyscy zawodnicy odbierający numer startowy są zobowiązani do złożenia deklaracji uczestnictwa w biurze zawodów. \n2. Uczestnik Biegu zobowiązany jest do złożenia oświadczenia następującej treści: „Dysponuję odpowiednim stanem zdrowia oraz poziomem umiejętności i doświadczenia pozwalającym na bezpieczne przebycie trasy. Zdaję sobie sprawę z trudności i niebezpieczeństw związanych z udziałem w biegu oraz konsekwencji zdrowotnych mogących\nbyć następstwem udziału w zawodach. Biorę w nich udział na własną odpowiedzialność. Podpisem swoim akceptuję zapisy regulaminu”. Za osobę niepełnoletnią oświadczenie podpisuje rodzic bądź opiekun prawny. \n3. Ze względu na warunki atmosferyczne Organizator zastrzega sobie prawo do odwołania\nzawodów\, zmiany terminu\, dystansu lub miejsca rozgrywania zawodów \nVI. OPŁATY \nOpłata za pakiet startowy w biegu wynosi:\n– 70\,00 zł urodzeni 2010 i starsi\,\n– 47\,00 zł urodzeni 2011 i młodsi\nKartą Zakopiańczyka\n– 40\,00 zł urodzeni 2010 i starsi\,\n– 26\,00 zł urodzeni 2011 i młodsi\nPowyższe opłaty tylko przez panel on-line https://www.sportstiming.pl/ do dnia 26.02.2026 r. godz. 23:59 (weryfikacja karty w biurze zawodów\, brak karty oznacza dopłatę do ceny obowiązującej w biurze zawodów)\nOpłaty za pakiet w biurze zawodów:\n– 80\,00 zł urodzeni 2010 i starsi\,\n– 60\,00 zł urodzeni 2011 i młodsi \nOdbiór w/w pakietów możliwy będzie po okazaniu w biurze zawodów ważnej legitymacji szkolnej lub dowodu osobistego.\nOpłacenie pakietu startowego oraz pobranie numeru wiąże się z akceptacją niniejszego Regulaminu.\nKażdy pakiet startowy zawiera koszulkę w której zawodnik ma obowiązek wystartować w biegu \, zwrotny numer startowy oraz na mecie każdy zawodnik otrzyma pamiątkowy medal.\nRozmiarówka koszulek unisex z ilością dostępnych sztuk :\nS – 15 szt.\nM – 35 szt.\nL – 35 szt.\nXL – 10 szt.\nXXL – 5 szt. \nVII. BIURO ZAWODÓW \n1. Biuro zawodów mieścić się będzie obok instalacji „ZAKOPANE” na Górnej Równi Krupowej i czynne będzie w dniu zawodów w godzinach 10:30 – 11:30 \nVIII. KLASYFIKACJA I NAGRODY\nZe względu na charakter biegu Organizator sklasyfikuje zawodników w kategoriach: Open K/M. na wszystkich dystansach a zwycięzców miejsc 1-3 wszystkich dystansów uhonoruje statuetką lub pucharem \nIX. OCHRONA DANYCH OSOBOWYCH\n1. Ochrona danych osobowych:\n• Dane osobowe uczestników biegu będą przetwarzane w celach przeprowadzenia biegu oraz klasyfikacji zawodników.\n• Dane osobowe uczestników biegu będą przetwarzane zgodnie z przepisami określonymi w Rozporządzeniem Parlamentu Europejskiego i Rady (UE) 2016/679 z 27 kwietnia 2016 r. w sprawie ochrony osób fizycznych w związku z przetwarzaniem danych osobowych i w sprawie swobodnego przepływu takich danych oraz uchylenia dyrektywy 95/46/WE.\n• Przetwarzanie danych\, o których mowa w ustępie 1 niniejszego paragrafu\, w związku z udziałem w zawodach obejmuje także publikację imienia i nazwiska uczestnika wraz z rokiem urodzenia i z nazwą miejscowości\, w której zamieszkuje – w każdy sposób\, w jaki publikowany lub rozpowszechniany będzie projekt – zgodnie z klauzulą informacyjną.\n• Podanie danych osobowych oraz wyrażenie zgody na ich przetwarzanie jest dobrowolne\, lecz ich niepodanie lub brak zgody na ich przetwarzanie uniemożliwia udział w zawodach. \nKlauzula informacyjna\nZgodnie z Rozporządzeniem Parlamentu Europejskiego i Rady z dnia 27 kwietnia 2016 r. o ochronie osób fizycznych w związku z przetwarzaniem danych osobowych i w sprawie swobodnego przepływu takich danych oraz uchylenia dyrektywy 95/46/EWE (dalej RODO) oraz ustawy z dnia 4 lutego 1994 r. o prawie autorskim i prawach pokrewnych.\n1. Administratorem danych osobowych przekazywanych w ramach wydarzenia jest Miejski Ośrodek Sportu i Rekreacji w Zakopanem\, z siedzibą ul. Orkana 2\, 34-500 Zakopane.\n2. Administrator wyznaczył Inspektora Ochrony Danych – z którym można skontaktować się poprzez e-mail: iod@zakopane.eu w każdej sprawie dotyczącej przetwarzania Pani/Pana danych osobowych.\n3. Dane osobowe przetwarzane będą w celu realizacji wydarzenia na podstawie Art. 6 ust. 1 lit. a ogólnego rozporządzenia o ochronie danych osobowych z dnia 27 kwietnia 2016r.\n4. Pani/Pan wyrażą zgodę na przetwarzanie danych osobowych i wykorzystanie wizerunku przez Administratora w celach związanych z uczestnictwem w wydarzeniu. Dane osobowe będą przetwarzane przez Administratora w celach promocyjnych zgodnie z klauzulą informacyjną.\n5. Dane osobowe przechowywane są zgodnie z obowiązującymi przepisami Instrukcji Kancelaryjnej.\n6. Odbiorcami danych będą organy i podmioty uprawnione na podstawie przepisów prawa do otrzymania Pani/Pana danych osobowych\n7. Uczestnicy wydarzenia mają prawo dostępu do treści swoich danych oraz prawo ich sprostowania\, usunięcia\, ograniczenia\, przetwarzania\, prawo do przenoszenia danych\, prawo wniesienia sprzeciwu\, prawo do cofnięcia zgody w dowolnym momencie bez wpływu na zgodność z prawem przetwarzania\, którego dokonano na podstawie zgody przed jej cofnięciem.\n8. Przysługuje Pani/Panu prawo wniesienia skargi do Prezesa Urzędu Ochrony Danych Osobowych z siedzibą przy ul. Stawki 2 00 – 193 Warszawa\, gdy uzna Pan/Pani\, iż przetwarzanie danych osobowych dotyczących Pana/Pani\, narusza przepisy ogólnego rozporządzenia o ochronie danych osobowych z dnia 27 kwietnia 2016 r.\n9. Podanie danych osobowych jest dobrowolne\, jednakże odmowa podania danych uniemożliwi realizację celów do których dane były zbierane.\n10. Uczestnik wyraża zgodę na zamieszczenie danych osobowych tj.: imię\, nazwisko\, rok urodzenia\, miejscowość w której zamieszkuje oraz wizerunku utrwalonego w czasie wydarzenia na stronach internetowych organizatora oraz partnerów: https://www.mosir.zakopane.eu/\, https://www.zakopane.pl/\, https://www.sportstiming.pl/\, https://my.raceresult.com/ w mediach społecznościowych https://www.facebook.com/MOSiR.Zakopane\, https://www.instagram.com/mosir_zakopane/ oraz na lokalnych portalach i w lokalnej prasie (https://24tp.pl/\, https://podhale24.pl/\, https://goral24.pl/\, http://www.podhale-sport.pl/) w celach przeprowadzenia wydarzenia i działań promocyjnych.\n11. Pani/Pana dane osobowe nie będą przekazywane do państwa trzeciego/organizacji międzynarodowej.\nPani/Pana dane osobowe nie będą podlegały profilowaniu. \nX. UWAGI KOŃCOWE\n1. . Zawodnik poprzez zgłoszenie do udziału w Biegu potwierdza\, iż został poinformowany przez Organizatora o zagrożeniach wynikających z udziału w zawodach startuje w biegu na własną odpowiedzialność oraz ponosi związane z tym ryzyko\, przyjmując do wiadomości\, że wiąże się to z wysiłkiem fizycznym i pociąga za sobą naturalne ryzyko i zagrożenie wypadkami\, możliwość odniesienia obrażeń ciała i urazów fizycznych (w tym śmierci)\, a także szkód i strat o charakterze majątkowym\n2. Wysłanie zgłoszenia oraz uiszczenie opłaty startowej oznacza\, że zawodnik ocenił charakter\, zakres i stopień ryzyka wiążącego się z uczestnictwem w biegu i dobrowolnie zdecydował się podjąć to ryzyko\, startując w nim na własną odpowiedzialność.\n3. Zawody odbędą się bez względu na pogodę\n4. Koszty związane z organizacją zawodów pokrywa MOSiR Zakopane.\n5. We wszystkich sprawach nieujętych Regulaminem decyduje Organizator Biegu\, któremu przysługuje wiążąca i ostateczna interpretacja Regulaminu.\n6. Kontakt do organizatora tel. 511453505\, e-mail: a.wojtecka@mosir.zakopane.eu
URL:https://www.mosir.zakopane.eu/wydarzenie/tropem-wilczym-bieg-pamieci-zolnierzy-wykletych/
LOCATION:Górna Rówień Krupowa Zakopane\, Górna Rówień Krupowa\, Zakopane\, Tatrzański\, 34-500\, Poland
ATTACH;FMTTYPE=application/pdf:https://www.mosir.zakopane.eu/wp-content/uploads/2026/01/Tropem-Wilczym-plakat.pdf
END:VEVENT
BEGIN:VEVENT
DTSTART;TZID=Europe/Warsaw:20260307T080000
DTEND;TZID=Europe/Warsaw:20260308T170000
DTSTAMP:20260423T155634
CREATED:20260121T203014Z
LAST-MODIFIED:20260121T203014Z
UID:957-1772870400-1772989200@www.mosir.zakopane.eu
SUMMARY:Podhale CUP
DESCRIPTION:Turniej piłki nożnej w dniach 7-8 marzec 2026 roku.
URL:https://www.mosir.zakopane.eu/wydarzenie/podhale-cup/
LOCATION:Miejski Stadion Orkana\, Orkana 4\, Zakopane\, Małopolskie\, 34-500\, Poland
END:VEVENT
BEGIN:VEVENT
DTSTART;TZID=Europe/Warsaw:20260315T080000
DTEND;TZID=Europe/Warsaw:20260315T170000
DTSTAMP:20260423T155634
CREATED:20251222T132741Z
LAST-MODIFIED:20260205T081735Z
UID:738-1773561600-1773594000@www.mosir.zakopane.eu
SUMMARY:Puchar Zakopanego Amatorów w Narciarstwie Alpejskim - Polana Szymoszkowa
DESCRIPTION:
URL:https://www.mosir.zakopane.eu/wydarzenie/puchar-zakopanego-amatorow-w-narciarstwie-alpejskim-polana-szymoszkowa/
LOCATION:Polana Szymoszkowa\, Polana Szymoszkowa 2\, Zakopane\, 34-500
CATEGORIES:Puchar Zakopanego Amatorów w Narciarstwie Alpejskim,Wydarzenia MOSIR
END:VEVENT
BEGIN:VEVENT
DTSTART;TZID=Europe/Warsaw:20260317T080000
DTEND;TZID=Europe/Warsaw:20260317T133000
DTSTAMP:20260423T155634
CREATED:20260216T101955Z
LAST-MODIFIED:20260216T101955Z
UID:1439-1773734400-1773754200@www.mosir.zakopane.eu
SUMMARY:Puchar Zakopanego Dzieci i Młodzieży w Narciarstwie Alpejskim
DESCRIPTION:II Edycja Pucharu Zakopanego Dzieci i Młodzieży \nStacja Narciarska SkiSuche  – 17.03.2026  \nZapraszamy do zapisów na stronie:  www.sport-timing.pl \nEliminacja  Szkolnej Ligi Sportów Zimowych \nPodczas zapisywania prosimy o informację do której Szkoły uczęszczają dzieci. \n 
URL:https://www.mosir.zakopane.eu/wydarzenie/puchar-zakopanego-dzieci-i-mlodziezy-w-narciarstwie-alpejskim-2/
LOCATION:Ski
ATTACH;FMTTYPE=image/jpeg:https://www.mosir.zakopane.eu/wp-content/uploads/2026/01/puchar_2026_plakat_dzieci-731x1024-1.jpg
END:VEVENT
BEGIN:VEVENT
DTSTART;TZID=Europe/Warsaw:20260320T100000
DTEND;TZID=Europe/Warsaw:20260320T130000
DTSTAMP:20260423T155634
CREATED:20260204T135917Z
LAST-MODIFIED:20260211T082602Z
UID:1256-1774000800-1774011600@www.mosir.zakopane.eu
SUMMARY:Zakopiański Dzień Wagarowicza
DESCRIPTION:
URL:https://www.mosir.zakopane.eu/wydarzenie/zakopianski-dzien-wagarowicza/
LOCATION:Górna Rówień Krupowa Zakopane\, Górna Rówień Krupowa\, Zakopane\, Tatrzański\, 34-500\, Poland
ATTACH;FMTTYPE=image/jpeg:https://www.mosir.zakopane.eu/wp-content/uploads/2026/02/WagarowiczA-2-scaled.jpg
END:VEVENT
END:VCALENDAR